BEGIN:VCALENDAR
VERSION:2.0
PRODID:-//wp-events-plugin.com//7.2.3.1//EN
TZID:Europe/Prague
X-WR-TIMEZONE:Europe/Prague
BEGIN:VEVENT
UID:126@ponava.cafe
DTSTART;TZID=Europe/Prague:20180430T170000
DTEND;TZID=Europe/Prague:20180430T170000
DTSTAMP:20180430T084542Z
URL:https://ponava.cafe/udalosti/babousi-noc/
SUMMARY:BaboUší noc
DESCRIPTION:V tento magický večer se brněnská Ponava stane vývarem taj
 emných ženských hudebních sil. Přijďte vzplanout s námi a ženským
  zpěvavým uskupením Babské ucho!\n\n\n\n&nbsp\;
ATTACH;FMTTYPE=image/jpeg:https://ponava.cafe/wp-content/uploads/2017/06/t
 apeta.jpg
CATEGORIES:Koncert
END:VEVENT
BEGIN:VTIMEZONE
TZID:Europe/Prague
X-LIC-LOCATION:Europe/Prague
BEGIN:DAYLIGHT
DTSTART:20180325T030000
TZOFFSETFROM:+0100
TZOFFSETTO:+0200
TZNAME:CEST
END:DAYLIGHT
END:VTIMEZONE
END:VCALENDAR