BEGIN:VCALENDAR
VERSION:2.0
PRODID:-//wp-events-plugin.com//7.2.3.1//EN
TZID:Europe/Prague
X-WR-TIMEZONE:Europe/Prague
BEGIN:VEVENT
UID:699@ponava.cafe
DTSTART;TZID=Europe/Prague:20230820T140000
DTEND;TZID=Europe/Prague:20230820T220000
DTSTAMP:20230727T160159Z
URL:https://ponava.cafe/udalosti/babi-leto-a-dedsky-den-2023/
SUMMARY:Babí léto a dědský den 2023
DESCRIPTION:Přátelé\, přinášíme již čtvrtý ročník oblíbeného 
 minifestivalu třetího věku!\nHLAVNÍ PROGRAM\n---------------------\n14
 .00–15.00 Milan Kašuba\n15.15–16.00 Přednáška Hoax – nástrahy i
 nternetu\, Josef Džubák\n16.15– 17.30 The Young Pekáč Mojmíra Bárt
 ka\n17.45–18.30 Přednáška Fake news a mediální gramotnost\, Mgr. Pa
 vel Sedláček\n18.45–21.00 Cimbálová muzika Sylván s podporou Slová
 ckého krúžku\n19.30–20.30 Přednáška Klamavé obchodní praktiky\, 
 Gerta Mazalová\n\nDOPROVODNÝ PROGRAM\n-----------------------------\n- J
 óga (nejen) pro seniory\n- Pétanque\n- Sebeobrana pro všechny\n\nSTÁNK
 Y\n---------\n- "Mobilní pohotovost" - Moudrá sovička\n- Úřad a služ
 by Městské části Brno-střed\n- Městská policie Brno\n- Univerzita t
 řetího věku MU\n- Botanka - dílny\n- Klub českých turistů\n- Česk
 ý svaz zahrádkářů\n- ROSKA (unie roztroušené sklerózy)\n- Charita 
 Brno - propagace cyklorikši\n- Senior pas\n- Naděje - Pečovatelská slu
 žba Brno\n- Kávéeska\nPo celou dobu bude na místě k dispozici zdravot
 ník\, mobilní pohotovost\, voda i WC zdarma.\nPořádají MČ Brno-stře
 d a Zahrady soutoku\, z.s.\nAkce se koná za finanční podpory MČ Brno-s
 třed a Jihomoravského kraje a pod záštitou 2. náměstka primátorky m
 ěsta Brna Ing. Jaroslava Suchého.
ATTACH;FMTTYPE=image/jpeg:https://ponava.cafe/wp-content/uploads/2023/07/b
 abi.jpg
CATEGORIES:Festival
END:VEVENT
BEGIN:VTIMEZONE
TZID:Europe/Prague
X-LIC-LOCATION:Europe/Prague
BEGIN:DAYLIGHT
DTSTART:20230326T030000
TZOFFSETFROM:+0100
TZOFFSETTO:+0200
TZNAME:CEST
END:DAYLIGHT
END:VTIMEZONE
END:VCALENDAR