BEGIN:VCALENDAR
VERSION:2.0
PRODID:-//wp-events-plugin.com//7.2.3.1//EN
TZID:Europe/Prague
X-WR-TIMEZONE:Europe/Prague
BEGIN:VEVENT
UID:316@ponava.cafe
DTSTART;TZID=Europe/Prague:20191020T180000
DTEND;TZID=Europe/Prague:20191020T180000
DTSTAMP:20191006T091428Z
URL:https://ponava.cafe/udalosti/autorske-cteni-radovan-jursa/
SUMMARY:Autorské čtení: Radovan Jursa
DESCRIPTION:Radovan Jursa (1970) Narozen ve Frýdku-Místku. Povoláním l
 ékař\, od ukončení studia pracuje ve Fakultní nemocnici Ostrava. Vyda
 l básnické sbírky Pianissimo (1999) a Mezi žebry déšť (2012). Uvede
 n Divadlem hudby a poezie Agadir pod názvem Pot v ústech (CD\, 2012). Za
 řazen do antologií a sborníků: Opus Velehradensis (2009)\, Briketa (20
 13)\, Korene/Kořeny (2018) a Terasa 5 (2019). Několik let publikoval v 
 časopise Protimluv.\n\nHudba: Jan Kaňka\, violoncello\n\n&nbsp\;\n\nVstu
 pné dobrovolné\, zážitky k nezaplacení. :)\n\n&nbsp\;
ATTACH;FMTTYPE=image/jpeg:https://ponava.cafe/wp-content/uploads/2017/06/t
 apeta.jpg
CATEGORIES:Autorské čtení
END:VEVENT
BEGIN:VTIMEZONE
TZID:Europe/Prague
X-LIC-LOCATION:Europe/Prague
BEGIN:DAYLIGHT
DTSTART:20190331T030000
TZOFFSETFROM:+0100
TZOFFSETTO:+0200
TZNAME:CEST
END:DAYLIGHT
END:VTIMEZONE
END:VCALENDAR