BEGIN:VCALENDAR
VERSION:2.0
PRODID:-//wp-events-plugin.com//7.2.3.1//EN
TZID:Europe/Prague
X-WR-TIMEZONE:Europe/Prague
BEGIN:VEVENT
UID:146@ponava.cafe
DTSTART;TZID=Europe/Prague:20180610T190000
DTEND;TZID=Europe/Prague:20180610T190000
DTSTAMP:20180528T172659Z
URL:https://ponava.cafe/udalosti/autorske-cteni-jaroslava-kovandy/
SUMMARY:Autorské čtení Jaroslava Kovandy
DESCRIPTION:Neděle 10. června od 19 hodin\n\nJaroslav Kovanda: JÁSÁM\n\
 nAutorské čtení solitéra a tržního básníka Jaroslava Kovandy.\n\n&
 nbsp\;\n\nPodrobnosti:\n\nJaroslav Kovanda (* 1941) – básník\, prozaik
 \, publicista a výtvarník\, výrazná osobnost současné české litera
 tury. Jeho bohaté literární dílo obsahuje sbírky poezie\, fejetony\, 
 povídkové soubory i román Gumový betlém. Stál u zrodu časopisů Ps
 í víno a Herberk. Žije ve Zlíně.\n\nV rámci autorského čtení v 
 Ponavě představí Jaroslav Kovanda brněnské veřejnosti svoje nakladat
 elství JÁSÁM\, a bude číst ze svých nových knih:\n\nZa a) ze svých
  nezakódovaných zaručeně srozumitelných básní. Pozn.: Posluchači\,
  jenž některému verši neporozumí\, hradí autor pivo.\n\nZa b) z knih
 y-mozaiky Třešňové týdny\, literatury faktu jen tu a tam mírně komo
 leného.\n\n
ATTACH;FMTTYPE=image/jpeg:https://ponava.cafe/wp-content/uploads/2017/06/t
 apeta.jpg
CATEGORIES:Autorské čtení
END:VEVENT
BEGIN:VTIMEZONE
TZID:Europe/Prague
X-LIC-LOCATION:Europe/Prague
BEGIN:DAYLIGHT
DTSTART:20180325T030000
TZOFFSETFROM:+0100
TZOFFSETTO:+0200
TZNAME:CEST
END:DAYLIGHT
END:VTIMEZONE
END:VCALENDAR