BEGIN:VCALENDAR
VERSION:2.0
PRODID:-//wp-events-plugin.com//7.2.3.1//EN
TZID:Europe/Prague
X-WR-TIMEZONE:Europe/Prague
BEGIN:VEVENT
UID:148@ponava.cafe
DTSTART;TZID=Europe/Prague:20180727T190000
DTEND;TZID=Europe/Prague:20180727T190000
DTSTAMP:20180709T183156Z
URL:https://ponava.cafe/udalosti/aram/
SUMMARY:Dálava & Horňácká cimbálová muzika Petra Mičky & Maestro Mar
 tin Hrbáč
DESCRIPTION:Kořeny a plody horňáckých tradic se setkají v jednom kouze
 lném večeru\n\nDálava\n\nPřevratný přístup k moravským lidovým p
 ísním přináší projekt Dálava\, který vznikl ve Spojených státech
 . Julia Úlehla je v Americe narozená pravnučka moravského folkloristy 
 Vladimíra Úlehly\, její partner\, renomovaný kytarista Aram Bajakian h
 rál s Lou Reedem\, Marcem Ribotem a Johnem Zornem. Skupina s Aramem Juli
 í a Aramem v čele zasazuje písně z Úlehlova zpěvníku do zcela nové
 ho zvukového rámce\, místo cimbálu a houslí slyšíme vzájemně prop
 letené vrstvy syrových kytarových tónů\, které zní jak ďáblem zak
 letý nástroj bluesmana Roberta Johnsona\, to vše postaveno na hutném z
 ákladu basy Peggyho Lee\, bicích Dylana Van Der Schyffa\na violoncella C
 olina Cowana.\n\nhttp://www.dalavamusic.com\nhttps://www.youtube.com/chann
 el/UCUWtwohCsXtkQ4i5t8OzwZw\n\nHorňácká muzika Petra Mičky\n\nHudební
  projev a repertoár kapely vychází především z tradice hudební kult
 ury Horňácka a navazuje na ni v co možná nejpravdivější podobě. Mi
 mo tradičních folklorních a folkloristických příležitostí se muzik
 a účastní nejrůznějších hudebních projektů a spolupráce mimo kla
 sické folklorní spektrum.\n\nhttps://www.facebook.com/Hor%C5%88%C3%A1ck%
 C3%A1-muzika-Petra-Mi%C4%8Dky-915884151811171/\n\nMartin Hrbáč\n\nje hor
 ňácký houslista a zpěvák\, primáš Horňácké cimbálové muziky. J
 ako houslista je samoukem. V mládí začínal v kapele Jožky Kubíka. V 
 roce 1966 založil Horňáckou cimbálovou muziku.\n\nDopručené vstupné
 : 250 Kč\n\n
ATTACH;FMTTYPE=image/jpeg:https://ponava.cafe/wp-content/uploads/2017/06/t
 apeta.jpg
CATEGORIES:Koncert
END:VEVENT
BEGIN:VTIMEZONE
TZID:Europe/Prague
X-LIC-LOCATION:Europe/Prague
BEGIN:DAYLIGHT
DTSTART:20180325T030000
TZOFFSETFROM:+0100
TZOFFSETTO:+0200
TZNAME:CEST
END:DAYLIGHT
END:VTIMEZONE
END:VCALENDAR