BEGIN:VCALENDAR
VERSION:2.0
PRODID:-//wp-events-plugin.com//7.2.3.1//EN
TZID:Europe/Prague
X-WR-TIMEZONE:Europe/Prague
BEGIN:VEVENT
UID:240@ponava.cafe
DTSTART;TZID=Europe/Prague:20190417T200000
DTEND;TZID=Europe/Prague:20190417T200000
DTSTAMP:20190307T115110Z
URL:https://ponava.cafe/udalosti/aram-bajakian/
SUMMARY:Aram Bajakian
DESCRIPTION:Aram Bajakian je americký kytarista arménského původu. Jeho
  vzorem je prý britský kytarista Jimmy Page. Vystupovat začal již ve s
 vých deseti letech\; brzy poté založil skupinu Thingummy. Později půs
 obil v několika dalších skupinách a v letech 2005 až 2007 byl členem
  kapely The Anthem Sound. V roce 2011 vydal na labeli Tzadik Records své 
 první sólové album Kef. Následující rok odehrál turné s kytaristou
  a zpěvákem Lou Reedem a téhož roku nahrál album Abraxas: Book of Ang
 els Volume 19 s basistou Shanirem Ezrou Blumenkranzem. Spolu se zpěvačko
 u Julií Ulehla působí ve skupině Dálava\, se kterou hraji lidové pí
 sně z Moravy. Během své kariéry spolupracoval i s dalšími hudebníky
 \, mezi které patří John Zorn\, Yusef Lateef\, Diana Krall nebo Sean Le
 nnon.\n\n\n\n&nbsp\;\n\n.                        
                                         
          Vstupné dobrovolné\, zážitky k nezaplacení :)
ATTACH;FMTTYPE=image/jpeg:https://ponava.cafe/wp-content/uploads/2017/06/t
 apeta.jpg
CATEGORIES:Koncert
END:VEVENT
BEGIN:VTIMEZONE
TZID:Europe/Prague
X-LIC-LOCATION:Europe/Prague
BEGIN:DAYLIGHT
DTSTART:20190331T030000
TZOFFSETFROM:+0100
TZOFFSETTO:+0200
TZNAME:CEST
END:DAYLIGHT
END:VTIMEZONE
END:VCALENDAR