BEGIN:VCALENDAR
VERSION:2.0
PRODID:-//wp-events-plugin.com//7.2.3.1//EN
TZID:Europe/Prague
X-WR-TIMEZONE:Europe/Prague
BEGIN:VEVENT
UID:286@ponava.cafe
DTSTART;TZID=Europe/Prague:20190728T190000
DTEND;TZID=Europe/Prague:20190728T190000
DTSTAMP:20190726T074323Z
URL:https://ponava.cafe/udalosti/alf-carlsson-jiri-kotaca-quartet/
SUMMARY:Alf Carlsson\, Jiří Kotača Quartet
DESCRIPTION:Alf Carlsson/Jiří Kotača Quartet je společný projekt švé
 dského kytaristy Alfa Carlssona a českého trumpetisty Jiřího Kotači.
  Tyto dva muzikanty spojilo studium v nizozemském Rotterdamu a půl roku 
 po jejich návratu do rodných zemí i plánovaný výlet Alfa do ČR\, z 
 kterého se nakonec stala krátká šňůra a posléze regulérní kapela\
 , která funguje již třetím rokem a odehrála víc něž 50 koncertů n
 a jazzových festivalech a v klubech ve Švédsku\, Slovensku a České re
 publice.\n\nVstupné dobrovolné\, zážitky k nezaplacení.\n\n&nbsp\;\n\
 n
ATTACH;FMTTYPE=image/jpeg:https://ponava.cafe/wp-content/uploads/2017/06/t
 apeta.jpg
CATEGORIES:Koncert
END:VEVENT
BEGIN:VTIMEZONE
TZID:Europe/Prague
X-LIC-LOCATION:Europe/Prague
BEGIN:DAYLIGHT
DTSTART:20190331T030000
TZOFFSETFROM:+0100
TZOFFSETTO:+0200
TZNAME:CEST
END:DAYLIGHT
END:VTIMEZONE
END:VCALENDAR