BEGIN:VCALENDAR
VERSION:2.0
PRODID:-//wp-events-plugin.com//7.2.3.1//EN
TZID:Europe/Prague
X-WR-TIMEZONE:Europe/Prague
BEGIN:VEVENT
UID:157@ponava.cafe
DTSTART;TZID=Europe/Prague:20180712T190000
DTEND;TZID=Europe/Prague:20180712T190000
DTSTAMP:20180709T112735Z
URL:https://ponava.cafe/udalosti/alf-carlsson-jiri-kotaca-quartet-swe-cz-s
 k/
SUMMARY:Alf Carlsson / Jiří Kotača Quartet (SWE\, CZ\, SK)
DESCRIPTION:\n\nAlf Carlsson/Jiří Kotača Quartet zosobňuje spolupráci 
 mezi švédským kytaristou Alfem Carlssonem a českým trumpetistou Jiř
 ím Kotačou. Alf a Jiří se původně potkali jako studenti na hudební 
 akademii Codarts v nizozemském Rotterdamu. Jiří\, který v současnosti
  žije v Brně\, oslovil své dva hudební souputníky ze Slovenska - bube
 níka Kristiána Kuruce a kontrabasistu Petera Kormana\, aby doplnili zam
 ýšlený zvuk kvarteta. Cílem projektu je najít a prozkoumat nové hude
 bní cesty\, než ty\, které by se daly od klasických jazzových kvartet
 ů očekávat. Vyzbrojeni úctou k jazzové tradici a individualitou\, zap
 říčiněnou jejich různými původy\, přináší každý ze členů n
 ěco svého do specifického zvuku tohoto kvarteta. Repertoár se skládá
  z vlastních kompozic a aranžmá.\n\n&nbsp\;\n\nhttps://www.youtube.com/
 watch?v=1jAUdGCi_p0\n\n&nbsp\;\n\n\n\n\n
ATTACH;FMTTYPE=image/jpeg:https://ponava.cafe/wp-content/uploads/2017/06/t
 apeta.jpg
CATEGORIES:Koncert
END:VEVENT
BEGIN:VTIMEZONE
TZID:Europe/Prague
X-LIC-LOCATION:Europe/Prague
BEGIN:DAYLIGHT
DTSTART:20180325T030000
TZOFFSETFROM:+0100
TZOFFSETTO:+0200
TZNAME:CEST
END:DAYLIGHT
END:VTIMEZONE
END:VCALENDAR