BEGIN:VCALENDAR
VERSION:2.0
PRODID:-//wp-events-plugin.com//7.2.3.1//EN
TZID:Europe/Prague
X-WR-TIMEZONE:Europe/Prague
BEGIN:VEVENT
UID:325@ponava.cafe
DTSTART;TZID=Europe/Prague:20191118T190000
DTEND;TZID=Europe/Prague:20191118T190000
DTSTAMP:20191028T212635Z
URL:https://ponava.cafe/udalosti/agadir-uvadi-adam-borzic/
SUMMARY:AGADIR uvádí: Adam Borzič
DESCRIPTION:AGADIR UVÁDÍ.... Adam Borzič\n\nAdam Borzič je básník\, p
 ublicista\, překladatel a šéfredaktor literárního obtýdeníku TVAR. 
 Je spoluzakladatelem básnické skupiny Fantazia. Jeho sbírka Počasí v 
 Evropě byla v roce 2014 nominována v soutěži Magnesia Litera. Básnick
 á sbírka Orfické linie je prokomponovaný celek\, oslovuje čtenáře v
 ědomím souvislosti přítomnosti dějin\, přítomnosti minulosti i budo
 ucnosti. Je přímo spojena s existenciální otázkou psaní\, do součas
 nosti zaznívá i hlas zásvětí\, vizionářství a mystika.\n\nÚčinku
 jí:\nKarolína Charvátová\nAndrea Múdra\nZdeňka Pospíšilová\nDanka
  Zapletalová\nzpěv: Jeanette Matoušková\nflétna: Anna-Marie Nekolná\
 nflétna: Hana Jargašová\nklavír: Ondřej Fuciman\n\nVíce na : www.aga
 dir.cz/akce.php?rok=0.\n\nVstupné dobrovolné\, zážitky k nezaplacení.
  :)
ATTACH;FMTTYPE=image/jpeg:https://ponava.cafe/wp-content/uploads/2017/06/t
 apeta.jpg
CATEGORIES:Autorské čtení,Divadlo
END:VEVENT
BEGIN:VTIMEZONE
TZID:Europe/Prague
X-LIC-LOCATION:Europe/Prague
BEGIN:STANDARD
DTSTART:20191027T020000
TZOFFSETFROM:+0200
TZOFFSETTO:+0100
TZNAME:CET
END:STANDARD
END:VTIMEZONE
END:VCALENDAR