BEGIN:VCALENDAR
VERSION:2.0
PRODID:-//wp-events-plugin.com//7.2.3.1//EN
TZID:Europe/Prague
X-WR-TIMEZONE:Europe/Prague
BEGIN:VEVENT
UID:290@ponava.cafe
DTSTART;TZID=Europe/Prague:20190812T190000
DTEND;TZID=Europe/Prague:20190812T190000
DTSTAMP:20190729T080921Z
URL:https://ponava.cafe/udalosti/4-6-dust-in-the-groove-orbita/
SUMMARY:4/6 Dust in the Groove & Orbita
DESCRIPTION:Žaneta Vítová – akordeon\, zpěv\nJana Vondrů – zpěv\n
 Radim Hanousek – saxofony\nJan Přibil – trubka\nRoberta Legros Štěp
 ánková\, Tereza Lepold\, Lukáš Lepold – tanec\n\nHudební improvizac
 e 4 členů Dust in the Groove\, projektu na pomezí jazzu a soudobé hudb
 y a 3 tanečních performerů\, členů spolku Orbita.\n\nwww.dustinthegro
 ove.cz\nhttp://orbita.space/\n\nVstupné dobrovolné\, zážitky k nezapla
 cení. :)\n\n
ATTACH;FMTTYPE=image/jpeg:https://ponava.cafe/wp-content/uploads/2017/06/t
 apeta.jpg
CATEGORIES:Koncert
END:VEVENT
BEGIN:VTIMEZONE
TZID:Europe/Prague
X-LIC-LOCATION:Europe/Prague
BEGIN:DAYLIGHT
DTSTART:20190331T030000
TZOFFSETFROM:+0100
TZOFFSETTO:+0200
TZNAME:CEST
END:DAYLIGHT
END:VTIMEZONE
END:VCALENDAR