BEGIN:VCALENDAR
VERSION:2.0
PRODID:-//wp-events-plugin.com//7.2.3.1//EN
TZID:Europe/Prague
X-WR-TIMEZONE:Europe/Prague
BEGIN:VEVENT
UID:329@ponava.cafe
DTSTART;TZID=Europe/Prague:20191205T190000
DTEND;TZID=Europe/Prague:20191205T190000
DTSTAMP:20191114T090028Z
URL:https://ponava.cafe/udalosti/3-narozeniny-ponavy/
SUMMARY:3. narozeniny Ponavy
DESCRIPTION:Vážení a milí přátelé\, ano\, již tomu budou celé čar
 ovné TŘI roky\, co jsme chvatně zapojili poslední pivní trubku a za z
 vuků horňáckých písní narazili první sud piva v opravené Ponavě.\
 n\nNa cestě nás potkaly mnohé zkoušky\, ať už ohněm\, válkou Roseo
 vých nebo útoky sousedů...\n\nVšak hle\, jsme stále zde\, pro Vás a 
 díky Vám\, kteří Ponavu milujete podobně jako my.\n\nPřijďte s nám
 i oslavit to krásné čarovné číslo 3\, vy všichni\, kteří jste ná
 s po tuto dobu podporovali a byli s námi.\n\nPřipijeme si na krásné ro
 ky budoucí a zabékáme s horňáckou muzikou Kubíci.\n\nA vy\, kteří 
 jste se na nás třeba někdy nahněvali\, vy si s námi přijďte připí
 t na usmířenou. Vždyť veškeré durdění se toliko pro hovada dobré 
 jest.\n\nAť žije Ponava!\nLong live Ponava!\nМногая лета!
ATTACH;FMTTYPE=image/jpeg:https://ponava.cafe/wp-content/uploads/2017/06/t
 apeta.jpg
CATEGORIES:Oslava
END:VEVENT
BEGIN:VTIMEZONE
TZID:Europe/Prague
X-LIC-LOCATION:Europe/Prague
BEGIN:STANDARD
DTSTART:20191027T020000
TZOFFSETFROM:+0200
TZOFFSETTO:+0100
TZNAME:CET
END:STANDARD
END:VTIMEZONE
END:VCALENDAR