BEGIN:VCALENDAR
VERSION:2.0
PRODID:-//wp-events-plugin.com//7.2.3.1//EN
TZID:Europe/Prague
X-WR-TIMEZONE:Europe/Prague
BEGIN:VEVENT
UID:289@ponava.cafe
DTSTART;TZID=Europe/Prague:20190807T190000
DTEND;TZID=Europe/Prague:20190807T190000
DTSTAMP:20190729T080738Z
URL:https://ponava.cafe/udalosti/000-evolet/
SUMMARY:000 / Evolet
DESCRIPTION:000 / Tvrdá romantika zkušených nul\, jejichž nejnovější
  repertoár hbitě kříží brněnskou bigbeatovou alternativu se sanfran
 ciským bossa-metalem a progresivním triviálem\, vše korunováno nobles
 ním zpěvem Weru.\n\nEVOLET / Projekt slovenské textařky a písničká
 řky Evy Jurčákové. V roce 2018 začala spolupracovat s producentem a z
 námou osobností alternativní scény Martinem E. Kyšperským (leader ka
 pely Květy) na svém debutovém eponymním albu\, které vyšlo 26. červ
 na 2019. Evina hudba je typická intimnímy silnýmy texty\, používání
 m přímé\, živé řeči a výrazným hlasovým projevem.\n\nVstupné do
 brovolné\, zážitky k nezaplacení. :)\n\n
ATTACH;FMTTYPE=image/jpeg:https://ponava.cafe/wp-content/uploads/2017/06/t
 apeta.jpg
CATEGORIES:Koncert
END:VEVENT
BEGIN:VTIMEZONE
TZID:Europe/Prague
X-LIC-LOCATION:Europe/Prague
BEGIN:DAYLIGHT
DTSTART:20190331T030000
TZOFFSETFROM:+0100
TZOFFSETTO:+0200
TZNAME:CEST
END:DAYLIGHT
END:VTIMEZONE
END:VCALENDAR